BEGIN:VCALENDAR
VERSION:2.0
PRODID:-//Bella Vista Radio Club Website - ECPv6.15.20//NONSGML v1.0//EN
CALSCALE:GREGORIAN
METHOD:PUBLISH
X-WR-CALNAME:Bella Vista Radio Club Website
X-ORIGINAL-URL:https://bellavistaradioclub.org
X-WR-CALDESC:Events for Bella Vista Radio Club Website
REFRESH-INTERVAL;VALUE=DURATION:PT1H
X-Robots-Tag:noindex
X-PUBLISHED-TTL:PT1H
BEGIN:VTIMEZONE
TZID:America/Chicago
BEGIN:DAYLIGHT
TZOFFSETFROM:-0600
TZOFFSETTO:-0500
TZNAME:CDT
DTSTART:20230312T080000
END:DAYLIGHT
BEGIN:STANDARD
TZOFFSETFROM:-0500
TZOFFSETTO:-0600
TZNAME:CST
DTSTART:20231105T070000
END:STANDARD
BEGIN:DAYLIGHT
TZOFFSETFROM:-0600
TZOFFSETTO:-0500
TZNAME:CDT
DTSTART:20240310T080000
END:DAYLIGHT
BEGIN:STANDARD
TZOFFSETFROM:-0500
TZOFFSETTO:-0600
TZNAME:CST
DTSTART:20241103T070000
END:STANDARD
BEGIN:DAYLIGHT
TZOFFSETFROM:-0600
TZOFFSETTO:-0500
TZNAME:CDT
DTSTART:20250309T080000
END:DAYLIGHT
BEGIN:STANDARD
TZOFFSETFROM:-0500
TZOFFSETTO:-0600
TZNAME:CST
DTSTART:20251102T070000
END:STANDARD
END:VTIMEZONE
BEGIN:VEVENT
DTSTART;TZID=America/Chicago:20240323T080000
DTEND;TZID=America/Chicago:20240323T130000
DTSTAMP:20260421T191019
CREATED:20200124T033508Z
LAST-MODIFIED:20231220T035914Z
UID:712-1711180800-1711198800@bellavistaradioclub.org
SUMMARY:Ozark Amateur Radio Society HAMFEST
DESCRIPTION:
URL:https://bellavistaradioclub.org/event/712/
LOCATION:Mt. Vernon Art & Recreation Center\, 822 W Mt Vernon Blvd\, Mt. Vernon\, MO\, 65712
CATEGORIES:Hamfests
ATTACH;FMTTYPE=image/jpeg:https://bellavistaradioclub.org/wp-content/uploads/2020/01/oars.jpg
END:VEVENT
END:VCALENDAR