BEGIN:VCALENDAR
VERSION:2.0
PRODID:-//Bella Vista Radio Club Website - ECPv6.15.20//NONSGML v1.0//EN
CALSCALE:GREGORIAN
METHOD:PUBLISH
X-WR-CALNAME:Bella Vista Radio Club Website
X-ORIGINAL-URL:https://bellavistaradioclub.org
X-WR-CALDESC:Events for Bella Vista Radio Club Website
REFRESH-INTERVAL;VALUE=DURATION:PT1H
X-Robots-Tag:noindex
X-PUBLISHED-TTL:PT1H
BEGIN:VTIMEZONE
TZID:America/Chicago
BEGIN:DAYLIGHT
TZOFFSETFROM:-0600
TZOFFSETTO:-0500
TZNAME:CDT
DTSTART:20230312T080000
END:DAYLIGHT
BEGIN:STANDARD
TZOFFSETFROM:-0500
TZOFFSETTO:-0600
TZNAME:CST
DTSTART:20231105T070000
END:STANDARD
BEGIN:DAYLIGHT
TZOFFSETFROM:-0600
TZOFFSETTO:-0500
TZNAME:CDT
DTSTART:20240310T080000
END:DAYLIGHT
BEGIN:STANDARD
TZOFFSETFROM:-0500
TZOFFSETTO:-0600
TZNAME:CST
DTSTART:20241103T070000
END:STANDARD
BEGIN:DAYLIGHT
TZOFFSETFROM:-0600
TZOFFSETTO:-0500
TZNAME:CDT
DTSTART:20250309T080000
END:DAYLIGHT
BEGIN:STANDARD
TZOFFSETFROM:-0500
TZOFFSETTO:-0600
TZNAME:CST
DTSTART:20251102T070000
END:STANDARD
END:VTIMEZONE
BEGIN:VEVENT
DTSTART;TZID=America/Chicago:20240127T130000
DTEND;TZID=America/Chicago:20240128T130000
DTSTAMP:20260420T105514
CREATED:20240116T051731Z
LAST-MODIFIED:20240125T014715Z
UID:561-1706360400-1706446800@bellavistaradioclub.org
SUMMARY:Winter Field Day
DESCRIPTION:Winter continues in the Ozarks! Time to relax after the hectic holiday season\, right?! \nWell……NOT for a few hardy & ambitious BVRC members!! Under the able direction of Team Captain Alex KI5EQK\, they will be operating a Mobile Station in a fairly remote location in NW Arkansas for Winter Field Day 2024:\nCoordinates are 36.138736\, -94.216361 (– you’ll get extra credit if you can pinpoint where that is!);\nWill be setting up Alex’ cargo trailer early Saturday morning (27JAN2024);\nWill be operating under club callsign N5BVA;\nWill be using two separate portable dipole antennas;\nWill operating using portable generator power;\nWill be simultaneously using two or more transceivers;\nWill be operating on several HF bands & modes (– to be announced later);\nWill be operating continuously from Saturday/27JAN2024/1300CST through Sunday/29JAN2024/1259CST;\nThe public is invited; but to ensure adequate parking space\, please contact Rick KG5MWG rjpope1@yahoo.com\, 479-306-9255) in advance about your ETA.\nIf YOU would like to volunteer in this important exercise\, licensed or not\, please contact Alex KI5EQK (479-445-4153)! \nWinter Field Day Association (WFDA) is a dedicated group of Amateur Radio Operators who believe that emergency communications in a winter environment is just as important as the preparations and practice that is done each summer but with some additional unique operational concerns.\nWinter Field Day runs for 24 hours during the last full weekend in January each year from 1900 UTC (2pm EST) Saturday to 1900 UTC (2pm EST) Sunday. \nSponsor: Winter Field Day Association
URL:https://bellavistaradioclub.org/event/winter-field-day-2024/
LOCATION:AR
CATEGORIES:OnTheAir
ATTACH;FMTTYPE=image/jpeg:https://bellavistaradioclub.org/wp-content/uploads/2020/01/wfda.jpg
END:VEVENT
END:VCALENDAR