BEGIN:VCALENDAR
VERSION:2.0
PRODID:-//Bella Vista Radio Club Website - ECPv6.15.20//NONSGML v1.0//EN
CALSCALE:GREGORIAN
METHOD:PUBLISH
X-ORIGINAL-URL:https://bellavistaradioclub.org
X-WR-CALDESC:Events for Bella Vista Radio Club Website
REFRESH-INTERVAL;VALUE=DURATION:PT1H
X-Robots-Tag:noindex
X-PUBLISHED-TTL:PT1H
BEGIN:VTIMEZONE
TZID:America/Chicago
BEGIN:DAYLIGHT
TZOFFSETFROM:-0600
TZOFFSETTO:-0500
TZNAME:CDT
DTSTART:20230312T080000
END:DAYLIGHT
BEGIN:STANDARD
TZOFFSETFROM:-0500
TZOFFSETTO:-0600
TZNAME:CST
DTSTART:20231105T070000
END:STANDARD
BEGIN:DAYLIGHT
TZOFFSETFROM:-0600
TZOFFSETTO:-0500
TZNAME:CDT
DTSTART:20240310T080000
END:DAYLIGHT
BEGIN:STANDARD
TZOFFSETFROM:-0500
TZOFFSETTO:-0600
TZNAME:CST
DTSTART:20241103T070000
END:STANDARD
BEGIN:DAYLIGHT
TZOFFSETFROM:-0600
TZOFFSETTO:-0500
TZNAME:CDT
DTSTART:20250309T080000
END:DAYLIGHT
BEGIN:STANDARD
TZOFFSETFROM:-0500
TZOFFSETTO:-0600
TZNAME:CST
DTSTART:20251102T070000
END:STANDARD
BEGIN:DAYLIGHT
TZOFFSETFROM:-0600
TZOFFSETTO:-0500
TZNAME:CDT
DTSTART:20260308T080000
END:DAYLIGHT
BEGIN:STANDARD
TZOFFSETFROM:-0500
TZOFFSETTO:-0600
TZNAME:CST
DTSTART:20261101T070000
END:STANDARD
BEGIN:DAYLIGHT
TZOFFSETFROM:-0600
TZOFFSETTO:-0500
TZNAME:CDT
DTSTART:20270314T080000
END:DAYLIGHT
BEGIN:STANDARD
TZOFFSETFROM:-0500
TZOFFSETTO:-0600
TZNAME:CST
DTSTART:20271107T070000
END:STANDARD
END:VTIMEZONE
BEGIN:VEVENT
DTSTART;TZID=America/Chicago:20260207T090000
DTEND;TZID=America/Chicago:20260207T150000
DTSTAMP:20260420T102009
CREATED:20260109T170913Z
LAST-MODIFIED:20260109T172049Z
UID:5113-1770454800-1770476400@bellavistaradioclub.org
SUMMARY:Bella Vista Radio Club Technician License Class
DESCRIPTION:(entry level FCC amateur radio license – registration below) \nFebruary 7th and 14th \n9 am – 3 pm \nLocation:\nNW Arkansas Law Enforcement Training Academy\n3424 S. Downum Road\nSpringdale\, AR \nRequired Textbook – Technician Class Manual – 2022/2026 Element 2- Gordon West WB6NOA  \nAvailable at: Amazon \nThere is no cost for this 2-Saturday class! \nRegistration at: BVRC website \nInstructor – Tom Northfell W5XNA\nARRL Registered Instructor \n\n\nTO REGISTER FOR THE CLASS\, EASY SIGN-UP:\n \n\n\n  \n\n\n\n Your Name (required)\n \n \n Your Email (required)\n \n \n Your Phone (optional)\n \n \nAre you a member of the Bella Vista Radio Club (BVRC)\nYesNo\n \nAny comments may be entered below.\n Your Message (optional)
URL:https://bellavistaradioclub.org/event/bella-vista-radio-club-technician-license-class-feb-2026/
LOCATION:Arkansas Law Enforcement Training Academy (ALETA)\, 3424 S. Downum Road\, Springdale\, AR\, 72762
CATEGORIES:Testing
ATTACH;FMTTYPE=image/jpeg:https://bellavistaradioclub.org/wp-content/uploads/2024/10/gordon-west-technician-book.jpg
END:VEVENT
BEGIN:VEVENT
DTSTART;TZID=America/Chicago:20250913T090000
DTEND;TZID=America/Chicago:20250913T150000
DTSTAMP:20260420T102009
CREATED:20250823T140015Z
LAST-MODIFIED:20250901T144500Z
UID:4333-1757754000-1757775600@bellavistaradioclub.org
SUMMARY:Bella Vista Radio Club Technician License Class
DESCRIPTION:(entry level FCC amateur radio license – registration below) \nSeptember 13th and 20th \n9 am – 3 pm \nVE License Testing 10/26 @ 4 pm \nLocation:\nNW Arkansas Law Enforcement Training Academy\n3424 S. Downum Road\nSpringdale\, AR \nDownloadable Brochure (PDF) \nRequired Textbook – Technician Class Manual – 2022/2026 Element 2- Gordon West WB6NOA  \nAvailable at: Amazon \nThere is no cost for this 2-Saturday class! \nRegistration at: BVRC website \nInstructor – Tom Northfell W5XNA\nARRL Registered Instructor \n\nEASY SIGN-UP:\nEmail:  w5xna@arrl.net\nSubject line: Tech Class\nProvide: Name and Phone\n \n\nTO REGISTER FOR THE CLASS: \nGo to the HamStudy.org website (https://hamstudy.org/) and follow these steps: \n\nOn the HamStudy.org home page\, click the “FIND A SESSION” tab in the upper right portion of your screen.\nOn the next screen\, find the LOCATION section and click the “CHOOSE TAB”.\nOn the next screen\, enter your zip code and click “FILTER”\nYou will then see the available BVRC exam locations.\n\nFind the September 20 session at 3424 S. Downum Road\, Springdale\, \nthen click the “OPEN” tab and follow the prompts to register for the exam session.
URL:https://bellavistaradioclub.org/event/bella-vista-radio-club-technician-license-class-2025/
LOCATION:Arkansas Law Enforcement Training Academy (ALETA)\, 3424 S. Downum Road\, Springdale\, AR\, 72762
CATEGORIES:Testing
ATTACH;FMTTYPE=image/jpeg:https://bellavistaradioclub.org/wp-content/uploads/2024/10/gordon-west-technician-book.jpg
END:VEVENT
BEGIN:VEVENT
DTSTART;TZID=America/Chicago:20250628T120000
DTEND;TZID=America/Chicago:20250629T120000
DTSTAMP:20260420T102009
CREATED:20250607T015257Z
LAST-MODIFIED:20250607T015257Z
UID:4770-1751112000-1751198400@bellavistaradioclub.org
SUMMARY:Field Day 2025
DESCRIPTION:The biggest ham radio event of the year is just around the corner! Mark your calendar and join us for food\, fun\, fellowship\, operating\, & hands-on experience in setting-up portable ham stations. The 4 Field Day Stations setups have been finalized\, but volunteers are still needed for set-up\, tear-down\, food\, drinks\, snacks\, accessories etc. If you would like to help\, contact
URL:https://bellavistaradioclub.org/event/field-day-2025/
LOCATION:Metfield Park\, 49 Commonwealth Road\, BELLA VISTA\, AR\, 72714\, United States
CATEGORIES:Local Events,OnTheAir,Testing
ATTACH;FMTTYPE=image/jpeg:https://bellavistaradioclub.org/wp-content/uploads/2025/06/arrl-fd-2025.jpg
END:VEVENT
BEGIN:VEVENT
DTSTART;TZID=America/Chicago:20241026T090000
DTEND;TZID=America/Chicago:20241026T150000
DTSTAMP:20260420T102009
CREATED:20241011T203735Z
LAST-MODIFIED:20241011T205415Z
UID:4328-1729933200-1729954800@bellavistaradioclub.org
SUMMARY:Bella Vista Radio Club Technician License Class
DESCRIPTION:(entry level FCC amateur radio license – registration below) \nOctober 26th and November 2nd \n9 am – 3 pm \nVE License Testing 11/2 @ 4 pm \nLocation:\nNW Arkansas Law Enforcement Training Academy\n3424 S. Downum Road\nSpringdale\, AR \nRequired Textbook – Technician Class Manual – 2022/2026 Element 2- Gordon West WB6NOA  \nAvailable at: Amazon \nThere is no cost for this 2-Saturday class! \nRegistration at: BVRC website \nInstructor – Tom Northfell W5XNA\nARRL Registered Instructor \n\nRegister to Attend\n\n\n  \n\n\n\n Your Name (required)\n \n \n Your Call-Sign (optional)\n \n \n Your Email (required)\n \n \n Your City (optional)\n \n \n Your Phone (optional)\n \n \nAre you a member of the American Radio Relay League (ARRL)\nYesNo\n \nAre you a member of the Bella Vista Radio Club (BVRC)\nYesNo\n \nAny comments may be entered below.\n Your Message (optional)
URL:https://bellavistaradioclub.org/event/bella-vista-radio-club-technician-license-class/
LOCATION:Arkansas Law Enforcement Training Academy (ALETA)\, 3424 S. Downum Road\, Springdale\, AR\, 72762
CATEGORIES:Testing
ATTACH;FMTTYPE=image/jpeg:https://bellavistaradioclub.org/wp-content/uploads/2024/10/gordon-west-technician-book.jpg
END:VEVENT
BEGIN:VEVENT
DTSTART;TZID=America/Chicago:20240720T090000
DTEND;TZID=America/Chicago:20240721T153000
DTSTAMP:20260420T102009
CREATED:20231218T183628Z
LAST-MODIFIED:20240314T213400Z
UID:3383-1721466000-1721575800@bellavistaradioclub.org
SUMMARY:BVRC General Class Week 2
DESCRIPTION:BVRC General Class Week 2\n  Saturday July 20th\, 9:00 a.m. to 3:30 p.m.\n  Sunday July 21st\, 9:00 a.m. to 3:30 p.m.   Testing @ 3:30 p.m.
URL:https://bellavistaradioclub.org/event/bvrc-general-class-week-2/
LOCATION:Arkansas Law Enforcement Training Academy (ALETA)\, 3424 S. Downum Road\, Springdale\, AR\, 72762
CATEGORIES:Testing
ATTACH;FMTTYPE=image/jpeg:https://bellavistaradioclub.org/wp-content/uploads/2024/03/GordoGeneralClass.jpg
ORGANIZER;CN="Bella Vista Radio Club":MAILTO:info@bellavistaradioclub.org
END:VEVENT
BEGIN:VEVENT
DTSTART;TZID=America/Chicago:20240713T090000
DTEND;TZID=America/Chicago:20240714T153000
DTSTAMP:20260420T102009
CREATED:20231218T183102Z
LAST-MODIFIED:20240314T213105Z
UID:3380-1720861200-1720971000@bellavistaradioclub.org
SUMMARY:BVRC General Class Week 1
DESCRIPTION:BVRC General Class Week one\n  Saturday July 13th\, 9:00 a.m. to 3:30 p.m.\n  Sunday July 14th\, 9:00 a.m. to 3:30 p.m.
URL:https://bellavistaradioclub.org/event/bvrc-general-class/
LOCATION:Arkansas Law Enforcement Training Academy (ALETA)\, 3424 S. Downum Road\, Springdale\, AR\, 72762
CATEGORIES:Testing
ATTACH;FMTTYPE=image/jpeg:https://bellavistaradioclub.org/wp-content/uploads/2024/03/GordoGeneralClass.jpg
ORGANIZER;CN="Bella Vista Radio Club":MAILTO:info@bellavistaradioclub.org
END:VEVENT
BEGIN:VEVENT
DTSTART;TZID=America/Chicago:20240113T130000
DTEND;TZID=America/Chicago:20240113T150000
DTSTAMP:20260420T102009
CREATED:20231218T181952Z
LAST-MODIFIED:20231218T182108Z
UID:3373-1705150800-1705158000@bellavistaradioclub.org
SUMMARY:BVRC Bella Vista License Testing
DESCRIPTION:
URL:https://bellavistaradioclub.org/event/bvrc-bella-vista-license-testing/
LOCATION:Bella Vista Public Library\, 11 Dickens Place\, Bella Vista\, AR\, 72714\, United States
CATEGORIES:Testing
ATTACH;FMTTYPE=image/png:https://bellavistaradioclub.org/wp-content/uploads/2020/01/HamRadioLicense.png
ORGANIZER;CN="Bella Vista Radio Club":MAILTO:info@bellavistaradioclub.org
END:VEVENT
BEGIN:VEVENT
DTSTART;TZID=America/Chicago:20240113T100000
DTEND;TZID=America/Chicago:20240113T120000
DTSTAMP:20260420T102009
CREATED:20231218T181059Z
LAST-MODIFIED:20231218T194403Z
UID:3370-1705140000-1705147200@bellavistaradioclub.org
SUMMARY:BVRC Springdale License Testing
DESCRIPTION:
URL:https://bellavistaradioclub.org/event/bvrc-license-testing/
LOCATION:Shilo Museum of Ozark History\, 118 W. Johnson Avenue\, Springdale\, AR\, 72764
CATEGORIES:Testing
ATTACH;FMTTYPE=image/png:https://bellavistaradioclub.org/wp-content/uploads/2020/01/HamRadioLicense.png
ORGANIZER;CN="Bella Vista Radio Club":MAILTO:info@bellavistaradioclub.org
END:VEVENT
END:VCALENDAR